BEGIN:VCALENDAR
VERSION:2.0
PRODID:-//hacksw/handcal//NONSGML v1.0//EN
BEGIN:VEVENT
DTSTART:20210504T190000
DTEND:20210504T200000
LOCATION:https://forms.gle/9F7BTNZ6wfXczT9j9
ORGANIZER;CN=Alexis Hernot - X Santé Biotech:MAILTO:alexis.hernot.1991@polytechnique.org
SUMMARY:Jean-Charles Samuelian-Werve DG & Fondateur d'Alan, la licorne dans l'assurance santé
DESCRIPTION:Jean-Charles Samuelian viendra nous parler de l'incroyable succès d'Alan et des perspectives qu'offre une mutuelle qui met les bénéficiaires au coeur de sa stratégie\nPour vous inscrire à l'événement ...
URL:https://ax.polytechnique.org/en/group/x-sante-biotech/201/calendar/jean-charles-samuelian-werve-dg-fondateur-d-alan-la-licorne-dans-l-assurance-sante/2021/05/04/1045
BEGIN:VALARM
TRIGGER:-P0DT1H0M0S
ACTION:DISPLAY
END:VALARM
END:VEVENT
END:VCALENDAR