BEGIN:VCALENDAR
VERSION:2.0
PRODID:-//hacksw/handcal//NONSGML v1.0//EN
BEGIN:VEVENT
DTSTART:20211116T183000
DTEND:20211116T210000
LOCATION:Maison des X - Salon Caroline Aigle \n12, Rue de Poitiers \n75007 PARIS
ORGANIZER;CN=Tru Do-Khac - X-Propriété Intellectuelle (X-PI):MAILTO:tru.do-khac.1979@polytechnique.org
SUMMARY:Service B2B de méthodes de management augmentées par la Tech
DESCRIPTION:La récente levée de la startup Sorare apporte une preuve à 680  millions de dollars que les actifs culturels créatifs augmentés par la Tech sont source de création de valeur.Les méthodes de management...
URL:https://ax.polytechnique.org/en/group/x-propriete-intellectuelle-x-pi/81/calendar/service-b2b-de-methodes-de-management-augmentees-par-la-tech/2021/11/16/1199
BEGIN:VALARM
TRIGGER:-P0DT1H0M0S
ACTION:DISPLAY
END:VALARM
END:VEVENT
END:VCALENDAR