BEGIN:VCALENDAR
VERSION:2.0
PRODID:-//hacksw/handcal//NONSGML v1.0//EN
BEGIN:VEVENT
DTSTART:20180524T183000
DTEND:20180524T210000
LOCATION:Maison des X  \n12, Rue de Poitiers \n75007 PARIS
ORGANIZER;CN=Marie-Louise Casademont - X-Développement Durable:MAILTO:marie-louise.tronc.1974@polytechnique.org
SUMMARY:M. Joel Tronchon, Directeur Développement Durable du Groupe SEB
DESCRIPTION:\nBonjour à tous\nVenez nombreux écouter M. Joël TRONCHON, directeur développement durable du Groupe SEB, qui expliquera la politique RSE qu'il mène.\nAmicalement,\nMarie-Louise Casademont\nPrésidente...
URL:https://ax.polytechnique.org/en/group/x-developpement-durable/107/calendar/m-joel-tronchon-directeur-developpement-durable-du-groupe-seb/2018/05/24/162
BEGIN:VALARM
TRIGGER:-P0DT1H0M0S
ACTION:DISPLAY
END:VALARM
END:VEVENT
END:VCALENDAR