BEGIN:VCALENDAR
VERSION:2.0
PRODID:-//hacksw/handcal//NONSGML v1.0//EN
BEGIN:VEVENT
DTSTART:20230622T183000
DTEND:20230622T193000
LOCATION:à définir
ORGANIZER;CN=Tru Do-Khac - X-Propriété Intellectuelle (X-PI):MAILTO:tru.do-khac.1979@polytechnique.org
SUMMARY:Quelles sont les soft skills développées par la pratique du  droit d'auteur en B2B ?
DESCRIPTION:Pour faire face aux enjeux contemporains, l'ingénieur polytechnicien doit développer ses compétences socio-comportementales (soft skills). Aussi la réforme du Cycle ingénieur comporte-t-elle un volet ...
URL:https://ax.polytechnique.org/en/group/x-propriete-intellectuelle-x-pi/81/calendar/quelles-sont-les-soft-skills-developpees-par-la-pratique-du-droit-d-auteur-en-b2b/2023/06/22/1715
BEGIN:VALARM
TRIGGER:-P0DT1H0M0S
ACTION:DISPLAY
END:VALARM
END:VEVENT
END:VCALENDAR