BEGIN:VCALENDAR
VERSION:2.0
PRODID:-//hacksw/handcal//NONSGML v1.0//EN
BEGIN:VEVENT
DTSTART:20181123T083000
DTEND:20181123T100000
LOCATION:maison des polytechniciens \n12, Rue de Poitiers \n75007 PARIS
ORGANIZER;CN=Yves Demay:MAILTO:yves.demay@polytechnique.org
SUMMARY:Petit-déjeuner polytechnicien avec Xavier Huillard le Vendredi 23 novembre 2018
DESCRIPTION:Il faut avoir entendu Xavier Huillard parler du pont Trikoupis pour bien percevoir toute sa passion pour l'ingénierie et la construction. Xavier Huillard peut aussi être passionnant sur des questions ...
URL:https://ax.polytechnique.org/en/event/petit-dejeuner-polytechnicien-avec-xavier-huillard-le-vendredi-23-novembre-2018/2018/11/23/214
BEGIN:VALARM
TRIGGER:-P0DT1H0M0S
ACTION:DISPLAY
END:VALARM
END:VEVENT
END:VCALENDAR