BEGIN:VCALENDAR
VERSION:2.0
PRODID:-//hacksw/handcal//NONSGML v1.0//EN
BEGIN:VEVENT
DTSTART:20240627T183000
DTEND:20240627T193000
LOCATION:
ORGANIZER;CN=Lisliere Dantas:MAILTO:lisliere.dantas@polytechniciens.com
SUMMARY:Webinaire de présentation Télémaque
DESCRIPTION:Ce webinaire présentera le partenariat entre l’association Télémaque, l’AX, la FX et l’École pour agir en faveur de l’égalité des chances.\nVoici le lien de connexion pour la présentation du 27 juin à...
URL:https://ax.polytechnique.org/en/event/webinaire-de-presentation-telemaque/2024/06/27/2151
BEGIN:VALARM
TRIGGER:-P0DT1H0M0S
ACTION:DISPLAY
END:VALARM
END:VEVENT
END:VCALENDAR