BEGIN:VCALENDAR
VERSION:2.0
PRODID:-//hacksw/handcal//NONSGML v1.0//EN
BEGIN:VEVENT
DTSTART:20250516T183000
DTEND:20250517T033000
LOCATION:Palais Garnier \nPlace de l'Opéra
ORGANIZER;CN=Aurélie Dexmier:MAILTO:aurelie.dexmier@ax.polytechnique.org
SUMMARY:Bal de l'X 2025 -  Palais Garnier
DESCRIPTION:BAL DE L'X 2025- Palais GarnierVendredi 16 mai 2025******************* EVENEMENT COMPLET\nAfin que cette soirée se déroule au mieux, nous vous invitons à prendre connaissance des informations...
URL:https://ax.polytechnique.org/en/event/bal-de-l-x-2025-palais-garnier/2025/05/16/2262
BEGIN:VALARM
TRIGGER:-P0DT1H0M0S
ACTION:DISPLAY
END:VALARM
END:VEVENT
END:VCALENDAR