BEGIN:VCALENDAR
VERSION:2.0
PRODID:-//hacksw/handcal//NONSGML v1.0//EN
BEGIN:VEVENT
DTSTART:20241126T190000
DTEND:20241126T200000
LOCATION:https://us02web.zoom.us/j/88161031601?pwd=fLAQEeSmF4FkjKdlu1133Uw9xswbQo.1
ORGANIZER;CN=Laurent Daniel - X Sursaut:MAILTO:laurent.daniel.1996@polytechnique.org
SUMMARY:Wébinaire X-Sursaut avec Patrice Huiban
DESCRIPTION:Chers camarades,X-Sursaut est heureux de recevoir pour un Wébinaire Patrice Huiban qui nous parlera de son dernier livre Vers un nouvel essor français.\nRésuméLa France baigne depuis des décennies...
URL:https://ax.polytechnique.org/en/group/x-sursaut/33/calendar/webinaire-x-sursaut-avec-patrice-huiban/2024/11/26/2303
BEGIN:VALARM
TRIGGER:-P0DT1H0M0S
ACTION:DISPLAY
END:VALARM
END:VEVENT
END:VCALENDAR