BEGIN:VCALENDAR
VERSION:2.0
PRODID:-//hacksw/handcal//NONSGML v1.0//EN
BEGIN:VEVENT
DTSTART:20241202T193000
DTEND:20241202T224500
LOCATION:Maison des polytechniciens \n12, Rue de Poitiers \n75007 PARIS
ORGANIZER;CN=Anne Maginot - Présidents & représentants des groupes x:MAILTO:anne.maginot.ax@gmail.com
SUMMARY:Diner des présidents et présidentes des Groupes X
DESCRIPTION:Comme nous vous l'avions annoncé,le dîner des présidents et présidentes des groupes Xaura lieu lundi 2 décembre 2024 à la Maison des polytechniciens\nà 19 h 30.\nSeront à l'ordre du jour, les points...
URL:https://ax.polytechnique.org/en/group/presidents-representants-des-groupes-x/88/calendar/diner-des-presidents-et-presidentes-des-groupes-x/2024/12/02/2310
BEGIN:VALARM
TRIGGER:-P0DT1H0M0S
ACTION:DISPLAY
END:VALARM
END:VEVENT
END:VCALENDAR