BEGIN:VCALENDAR
VERSION:2.0
PRODID:-//hacksw/handcal//NONSGML v1.0//EN
BEGIN:VEVENT
DTSTART:20250212T083000
DTEND:20250212T170000
LOCATION:Maison des Polytechniciens \n12, Rue de Poitiers \n75007 PARIS
ORGANIZER;CN=Laurent Daniel - X Sursaut:MAILTO:laurent.daniel.1996@polytechnique.org
SUMMARY:Formation Stratège en 1 jour avec Xavier Fontanet
DESCRIPTION:X-Sursaut et Mines Alumni te propose de suivre la troisième édition d’un cours de stratégie animé par Xavier Fontanet, ancien PDG d'Essilor pendant plus de 20 ans, alumnus des Ponts, du MIT et du...
URL:https://ax.polytechnique.org/en/group/x-sursaut/33/calendar/formation-stratege-en-1-jour-avec-xavier-fontanet/2025/02/12/2335
BEGIN:VALARM
TRIGGER:-P0DT1H0M0S
ACTION:DISPLAY
END:VALARM
END:VEVENT
END:VCALENDAR