BEGIN:VCALENDAR
VERSION:2.0
PRODID:-//hacksw/handcal//NONSGML v1.0//EN
BEGIN:VEVENT
DTSTART:20250130T183000
DTEND:20250130T200000
LOCATION:Maison des X, Hôtel de Poulpry \n12, Rue de Poitiers \n75007 PARIS
ORGANIZER;CN=Michel Paillet - X-Sciences de l'Homme et de la Société (X-SHS):MAILTO:michel.paillet.1992@polytechnique.org
SUMMARY:Pierre Calame - 30/01 - Face à une polycrise profonde: la nécessité des Etats Généraux de la France
DESCRIPTION:Face à une crise politique, sociale, budgétaire sans précédent, ne serait-il pas pertinent et nécessaire de susciter l’organisation d’états généraux de la société française ?La défiance de la société ...
URL:https://ax.polytechnique.org/en/group/x-sciences-de-l-homme-et-de-la-societe-x-shs/51/calendar/pierre-calame-30-01-face-a-une-polycrise-profonde-la-necessite-des-etats-generaux-de-la-france/2025/01/30/2353
BEGIN:VALARM
TRIGGER:-P0DT1H0M0S
ACTION:DISPLAY
END:VALARM
END:VEVENT
END:VCALENDAR