BEGIN:VCALENDAR
VERSION:2.0
PRODID:-//hacksw/handcal//NONSGML v1.0//EN
BEGIN:VEVENT
DTSTART:20250130T180000
DTEND:20250130T200000
LOCATION:Palais Brongniart, chez Finance Innovation \n16, Place de la Bourse \n75002 PARIS
ORGANIZER;CN=Arnaud Dartois - X Blockchain:MAILTO:arnaud.dartois.1998@polytechnique.org
SUMMARY:RWA: tokenization of Real World Assets
DESCRIPTION:Le prochain événement du groupe X-Blockchain & Cryptoaura lieu le jeudi 30 Janvier 2025 au Palais Brongniart (chez Finance Innovation: 4ème étage) à Paris de 18h à 20h.\nSur le thème de la...
URL:https://ax.polytechnique.org/en/group/x-blockchain/281/calendar/rwa-tokenization-of-real-world-assets/2025/01/30/2378
BEGIN:VALARM
TRIGGER:-P0DT1H0M0S
ACTION:DISPLAY
END:VALARM
END:VEVENT
END:VCALENDAR