BEGIN:VCALENDAR
VERSION:2.0
PRODID:-//hacksw/handcal//NONSGML v1.0//EN
BEGIN:VEVENT
DTSTART:20250201T180000
DTEND:20250315T190000
LOCATION:ax.polytechnique.org
ORGANIZER;CN=Etienne Saint-Raymond - X Léman:MAILTO:etienne.saint-raymond.1975@polytechnique.org
SUMMARY:Cotisation 2025 du Groupe X-Léman
DESCRIPTION:L’AG du Groupe X-Léman qui s'est tenue le 21 janvier 2025 a maintenu le principe d'une cotisation annuelle de 10 €.Ce montant symbolique, qui sera utilisé pour financer tout ou partie des évènements...
URL:https://ax.polytechnique.org/en/group/x-leman/204/calendar/cotisation-2025-du-groupe-x-leman/2025/02/01/2400
BEGIN:VALARM
TRIGGER:-P0DT1H0M0S
ACTION:DISPLAY
END:VALARM
END:VEVENT
END:VCALENDAR