BEGIN:VCALENDAR
VERSION:2.0
PRODID:-//hacksw/handcal//NONSGML v1.0//EN
BEGIN:VEVENT
DTSTART:20250311T190000
DTEND:20250311T210000
LOCATION:Maison des X \n12 rue de Poitiers  \n75007 PARIS
ORGANIZER;CN=Laurent Dalimier - X-Solidarités:MAILTO:laurent.dalimier@gmail.com
SUMMARY:Table-Ronde "IA et solidarité : un levier pour l'impact et l'efficacité"
DESCRIPTION:L'avènement de l'intelligence artificielle promet de bouleverser toute la société, dans ses activités économiques comme dans ses aspects sociaux. Ses impacts seront multiples pour le secteur de la...
URL:https://ax.polytechnique.org/en/group/x-solidarites/28/calendar/table-ronde-ia-et-solidarite-un-levier-pour-l-impact-et-l-efficacite/2025/03/11/2435
BEGIN:VALARM
TRIGGER:-P0DT1H0M0S
ACTION:DISPLAY
END:VALARM
END:VEVENT
END:VCALENDAR