BEGIN:VCALENDAR
VERSION:2.0
PRODID:-//hacksw/handcal//NONSGML v1.0//EN
BEGIN:VEVENT
DTSTART:20250322T160000
DTEND:20250413T170000
LOCATION:
ORGANIZER;CN=Etienne Saint-Raymond - X Léman:MAILTO:etienne.saint-raymond.1975@polytechnique.org
SUMMARY:X-Léman - cotisation 2025 "deuxième chance"
DESCRIPTION:Chers camarades du Groupe X-Léman,Si vous n'avez pas eu le temps de vous inscrire à l'évènement "X-Léman cotisation 2025" (ouvert le 1 février jusqu'au 15 mars 2025) voici une deuxième chance pour...
URL:https://ax.polytechnique.org/en/group/x-leman/204/calendar/x-leman-cotisation-2025-deuxieme-chance/2025/03/22/2481
BEGIN:VALARM
TRIGGER:-P0DT1H0M0S
ACTION:DISPLAY
END:VALARM
END:VEVENT
END:VCALENDAR