BEGIN:VCALENDAR
VERSION:2.0
PRODID:-//hacksw/handcal//NONSGML v1.0//EN
BEGIN:VEVENT
DTSTART:20250409T190000
DTEND:20250409T213000
LOCATION:Maison des Ponts  \n42, Rue Boissière \n75116 PARIS
ORGANIZER;CN=Dominique de Robillard - X-Mer:MAILTO:dominique.de-robillard@polytechnique.org
SUMMARY:Lumières maritimes françaises
DESCRIPTION:INVITATION à évoquer les \nLumières françaises dans le monde:Les exemples de l'atlas des phares maritimesLe mercredi 9 avril à 19h00 à la Maison des PontsCocktail vers 20 heures\nVincent Guigueno,...
URL:https://ax.polytechnique.org/en/group/x-mer/90/calendar/lumieres-maritimes-francaises/2025/04/09/2485
BEGIN:VALARM
TRIGGER:-P0DT1H0M0S
ACTION:DISPLAY
END:VALARM
END:VEVENT
END:VCALENDAR