BEGIN:VCALENDAR
VERSION:2.0
PRODID:-//hacksw/handcal//NONSGML v1.0//EN
BEGIN:VEVENT
DTSTART:20250924T180000
DTEND:20250924T193000
LOCATION:Ecole Polytechnique \nRoute de Saclay \n91120 PALAISEAU
ORGANIZER;CN=Nicolas Godlewski - X Urgence Écologique:MAILTO:nicolas.godlewski.1996@polytechnique.org
SUMMARY:Table Ronde Enseignement de la transition écologique en école d'ingénieurs
DESCRIPTION:La transition écologique et sociale implique une transformation des métiers pour les ingénieurs débutants ou confirmés.  Le groupe X Urgence Ecologique organise  sur le campus de l'Ecole Polytechnique...
URL:https://ax.polytechnique.org/en/group/x-urgence-ecologique/287/calendar/table-ronde-enseignement-de-la-transition-ecologique-en-ecole-d-ingenieurs/2025/09/24/2568
BEGIN:VALARM
TRIGGER:-P0DT1H0M0S
ACTION:DISPLAY
END:VALARM
END:VEVENT
END:VCALENDAR