BEGIN:VCALENDAR
VERSION:2.0
PRODID:-//hacksw/handcal//NONSGML v1.0//EN
BEGIN:VEVENT
DTSTART:20250926T123000
DTEND:20250926T143000
LOCATION:Maison des X \n12, Rue de Poitiers \n75007 PARIS
ORGANIZER;CN=Leila Bassou - X-Finance:MAILTO:leila.bassou.2016@polytechnique.org
SUMMARY:Déjeuner X-Finance avec Charlotte Dennery, Administratrice Directrice Générale de BNP Paribas Personal Finance et Membre du Comité Exécutif de BNP Paribas
DESCRIPTION:Chers tous,Nous aurons le plaisir de recevoir, le vendredi 26 septembre 2025, autour d’un déjeuner à la Maison des X, Charlotte Dennery, Administratrice Directrice Générale de BNP Paribas Personal...
URL:https://ax.polytechnique.org/en/group/x-finance/89/calendar/dejeuner-x-finance-avec-charlotte-dennery-administratrice-directrice-generale-de-bnp-paribas-personal-finance-et-membre-du-comite-executif-de-bnp-paribas/2025/09/26/2611
BEGIN:VALARM
TRIGGER:-P0DT1H0M0S
ACTION:DISPLAY
END:VALARM
END:VEVENT
END:VCALENDAR