BEGIN:VCALENDAR
VERSION:2.0
PRODID:-//hacksw/handcal//NONSGML v1.0//EN
BEGIN:VEVENT
DTSTART:20251007T183000
DTEND:20251007T200000
LOCATION:Maison des Ingénieurs, Les bureaux du Tasta, Bâtiment C4.4 \n9, Rue Raymond Manaud \n33520 BRUGES
ORGANIZER;CN=Franck Cohet - X-Bordelais:MAILTO:franck.cohet.1980@polytechnique.org
SUMMARY:X-Bordelais : Quelle eau souterraine pour Bordeaux et la Gironde d'ici à 2050?
DESCRIPTION:Quelle est, face au changement climatique, la vision d’ici à 2050 des acteurs de la connaissance, de la gestion et de l’exploitation de la ressource en eau souterraine qui assure 97% des besoins en...
URL:https://ax.polytechnique.org/en/group/x-bordelais/54/calendar/x-bordelais-quelle-eau-souterraine-pour-bordeaux-et-la-gironde-d-ici-a-2050/2025/10/07/2660
BEGIN:VALARM
TRIGGER:-P0DT1H0M0S
ACTION:DISPLAY
END:VALARM
END:VEVENT
END:VCALENDAR