BEGIN:VCALENDAR
VERSION:2.0
PRODID:-//hacksw/handcal//NONSGML v1.0//EN
BEGIN:VEVENT
DTSTART:20251104T190000
DTEND:20251104T213000
LOCATION:Forum 104 \n104 rue de Vaugirard \n75006 Paris
ORGANIZER;CN=Alain Goyé - X-Solidarités:MAILTO:alain.goye@m4x.org
SUMMARY:Changer de regard sur la précarité et la prostitution - avec Thierry Desjuzeur (X84), DG Aux captifs, la libération
DESCRIPTION: Avec Thierry Desjuzeur (X84), Directeur général de l’association Aux captifs, la libération :\n👉 Découvrez l’engagement de l'association, dans la rue, auprès des personnes en grande exclusion,\n💡 Une...
URL:https://ax.polytechnique.org/en/group/x-solidarites/28/calendar/changer-de-regard-sur-la-precarite-et-la-prostitution-avec-thierry-desjuzeur-x84-dg-aux-captifs-la-liberation/2025/11/04/2665
BEGIN:VALARM
TRIGGER:-P0DT1H0M0S
ACTION:DISPLAY
END:VALARM
END:VEVENT
END:VCALENDAR