BEGIN:VCALENDAR
VERSION:2.0
PRODID:-//hacksw/handcal//NONSGML v1.0//EN
BEGIN:VEVENT
DTSTART:20251016T090000
DTEND:20251016T140000
LOCATION:Site ArianeGroup d'Issac \nRue du Général Niox \n33160 SAINT-MEDARD-EN-JALLES
ORGANIZER;CN=Franck Cohet - X-Bordelais:MAILTO:franck.cohet.1980@polytechnique.org
SUMMARY:X-Bordelais : Visite du site ArianeGroup d’Issac le 16/10/2025
DESCRIPTION:Après la visite du site ArianeGroup du Haillan l’an dernier nous te proposons en partenariat avec la CAIA, la Confédération Amicale des Ingénieurs de l’Armement, de  passer à l’étape suivante du cycle...
URL:https://ax.polytechnique.org/en/group/x-bordelais/54/calendar/x-bordelais-visite-du-site-arianegroup-d-issac-le-16-10-2025/2025/10/16/2666
BEGIN:VALARM
TRIGGER:-P0DT1H0M0S
ACTION:DISPLAY
END:VALARM
END:VEVENT
END:VCALENDAR