BEGIN:VCALENDAR
VERSION:2.0
PRODID:-//hacksw/handcal//NONSGML v1.0//EN
BEGIN:VEVENT
DTSTART:20251005T093000
DTEND:20251005T160000
LOCATION:Parking du port du Castets en Dorthe \nRue du Port \n33210 CASTETS ET CASTILLON
ORGANIZER;CN=Franck Cohet - X-Bordelais:MAILTO:franck.cohet.1980@polytechnique.org
SUMMARY:X-Bordelais : Randonnée à la découverte du château du Hamel le 5/10/2025
DESCRIPTION:Nous t'invitons à une randonnée d'environ 12 km en terrain plat qui nous permettra de longer la Garonne et le canal latéral, conçu et réaliisé par un de nos anciens, Jean-Baptiste de Baudre, et se...
URL:https://ax.polytechnique.org/en/group/x-bordelais/54/calendar/x-bordelais-randonnee-a-la-decouverte-du-chateau-du-hamel-le-5-10-2025/2025/10/05/2667
BEGIN:VALARM
TRIGGER:-P0DT1H0M0S
ACTION:DISPLAY
END:VALARM
END:VEVENT
END:VCALENDAR