BEGIN:VCALENDAR
VERSION:2.0
PRODID:-//hacksw/handcal//NONSGML v1.0//EN
BEGIN:VEVENT
DTSTART:20251013T183000
DTEND:20251013T203000
LOCATION:Maison des X, Hôtel de Poulpry
ORGANIZER;CN=Michel Paillet - X-Sciences de l'Homme et de la Société (X-SHS):MAILTO:michel.paillet.1992@polytechnique.org
SUMMARY:Olivier Rey  - 13/10 - Des mathemata aux mathématiques
DESCRIPTION:Des mathemata aux mathématiques\nOlivier Rey, 13 octobre 202518h30, en présentiel et distanciel.\nL’émergence et la constitution des sciences mathématiques de la nature, à partir du XVIIe siècle, est ...
URL:https://ax.polytechnique.org/en/group/x-sciences-de-l-homme-et-de-la-societe-x-shs/51/calendar/olivier-rey-13-10-des-mathemata-aux-mathematiques/2025/10/13/2688
BEGIN:VALARM
TRIGGER:-P0DT1H0M0S
ACTION:DISPLAY
END:VALARM
END:VEVENT
END:VCALENDAR