BEGIN:VCALENDAR
VERSION:2.0
PRODID:-//hacksw/handcal//NONSGML v1.0//EN
BEGIN:VEVENT
DTSTART:20251118T190000
DTEND:20251118T210000
LOCATION:Josy Pub \n35, Rue Saint-Georges \n75009 PARIS
ORGANIZER;CN=Leila Bassou - X-Finance:MAILTO:leila.bassou.2016@polytechnique.org
SUMMARY:Afterwork X-Finance
DESCRIPTION:Chers tous,Nous avons le plaisir de vous annoncer que le prochain Afterwork X-Finance se tiendra le mardi 18 novembre 2025 à partir de 19h, au Josy Pub, situé 35 rue Saint-Georges, 75009 Paris.Pensez ...
URL:https://ax.polytechnique.org/en/group/x-finance/89/calendar/afterwork-x-finance/2025/11/18/2704
BEGIN:VALARM
TRIGGER:-P0DT1H0M0S
ACTION:DISPLAY
END:VALARM
END:VEVENT
END:VCALENDAR