BEGIN:VCALENDAR
VERSION:2.0
PRODID:-//hacksw/handcal//NONSGML v1.0//EN
BEGIN:VEVENT
DTSTART:20260109T123000
DTEND:20260109T143000
LOCATION:Maison des X \n12, Rue de Poitiers \n75007 PARIS
ORGANIZER;CN=Leila Bassou - X-Finance:MAILTO:leila.bassou.2016@polytechnique.org
SUMMARY:Déjeuner X-Finance avec Pierre-Olivier Gourinchas, Chef Économiste du Fonds Monétaire International (FMI)
DESCRIPTION:Chers tous,Nous aurons le plaisir de recevoir, le vendredi 9 janvier 2026, autour d’un déjeuner à la Maison des X, Pierre-Olivier Gourinchas, Chef Économiste du Fonds Monétaire International...
URL:https://ax.polytechnique.org/en/group/x-finance/89/calendar/dejeuner-x-finance-avec-pierre-olivier-gourinchas-chef-economiste-du-fonds-monetaire-international-fmi/2026/01/09/2708
BEGIN:VALARM
TRIGGER:-P0DT1H0M0S
ACTION:DISPLAY
END:VALARM
END:VEVENT
END:VCALENDAR