BEGIN:VCALENDAR
VERSION:2.0
PRODID:-//hacksw/handcal//NONSGML v1.0//EN
BEGIN:VEVENT
DTSTART:20251209T190000
DTEND:20251209T210000
LOCATION:Maison des Polytechniciens \n12, Rue de Poitiers \n75007 PARIS
ORGANIZER;CN=Alexis Hernot - X Santé Biotech:MAILTO:alexis.hernot.1991@polytechnique.org
SUMMARY:Guillaume Couillard  -  Crise de la psychiatrie  : La grande cause nationale est elle la solution ?
DESCRIPTION:Bonjour à tous ! \nX-Santé Biotech poursuit son cycle de réunions autour de l’innovation en santé Pour cette nouvelle soirée, nous aurons le plaisir d’accueillir Guillaume Couillard DG du GHU Paris...
URL:https://ax.polytechnique.org/en/group/x-sante-biotech/201/calendar/guillaume-couillard-crise-de-la-psychiatrie-la-grande-cause-nationale-est-elle-la-solution/2025/12/09/2767
BEGIN:VALARM
TRIGGER:-P0DT1H0M0S
ACTION:DISPLAY
END:VALARM
END:VEVENT
END:VCALENDAR