BEGIN:VCALENDAR
VERSION:2.0
PRODID:-//hacksw/handcal//NONSGML v1.0//EN
BEGIN:VEVENT
DTSTART:20260622T123000
DTEND:20260622T143000
LOCATION:Maison des X \n12, Rue de Poitiers \n75007 PARIS
ORGANIZER;CN=Leila Bassou - X-Finance:MAILTO:leila.bassou.2016@polytechnique.org
SUMMARY:Déjeuner X-Finance avec Nicolas Moreau, Directeur Général (CEO) de HSBC Asset Management
DESCRIPTION:Chers tous,Nous aurons le plaisir de recevoir, le lundi 22 juin 2026, autour d’un déjeuner à la Maison des X, Nicolas Moreau, Directeur Général (CEO) de HSBC Asset Management.Les inscriptions seront...
URL:https://ax.polytechnique.org/en/group/x-finance/89/calendar/dejeuner-x-finance-avec-nicolas-moreau-directeur-general-ceo-de-hsbc-asset-management/2026/06/22/2776
BEGIN:VALARM
TRIGGER:-P0DT1H0M0S
ACTION:DISPLAY
END:VALARM
END:VEVENT
END:VCALENDAR