BEGIN:VCALENDAR
VERSION:2.0
PRODID:-//hacksw/handcal//NONSGML v1.0//EN
BEGIN:VEVENT
DTSTART:20251125T170000
DTEND:20251125T190000
LOCATION:
ORGANIZER;CN=Dominique de Robillard - X-Mer:MAILTO:dominique.de-robillard@polytechnique.org
SUMMARY:Défis professionnels du secteur maritime
DESCRIPTION:Défis professionnels du secteur maritime éd 2025Enjeux de recherche, ingénierie et développement  1 Ce qu'en disent cinq dirigeants:2 Ces défis me sont-ils accessibles ?(en deux étapes pour élèves et ...
URL:https://ax.polytechnique.org/en/group/x-mer/90/calendar/defis-professionnels-du-secteur-maritime/2025/11/25/2783
BEGIN:VALARM
TRIGGER:-P0DT1H0M0S
ACTION:DISPLAY
END:VALARM
END:VEVENT
END:VCALENDAR