BEGIN:VCALENDAR
VERSION:2.0
PRODID:-//hacksw/handcal//NONSGML v1.0//EN
BEGIN:VEVENT
DTSTART:20261009T123000
DTEND:20261009T143000
LOCATION:Maison des X \n12, Rue de Poitiers \n75007 PARIS
ORGANIZER;CN=Leila Bassou - X-Finance:MAILTO:leila.bassou.2016@polytechnique.org
SUMMARY:Déjeuner X-Finance avec Dominique Senequier, Présidente (CEO) et Fondatrice d'Ardian
DESCRIPTION:Chers tous,Nous aurons le plaisir de recevoir, le vendredi 9 octobre 2026, autour d’un déjeuner à la Maison des X, Dominique Senequier, Présidente (CEO) et Fondatrice d'Ardian.Les inscriptions seront ...
URL:https://ax.polytechnique.org/en/group/x-finance/89/calendar/dejeuner-x-finance-avec-dominique-senequier-presidente-ceo-et-fondatrice-d-ardian/2026/10/09/2801
BEGIN:VALARM
TRIGGER:-P0DT1H0M0S
ACTION:DISPLAY
END:VALARM
END:VEVENT
END:VCALENDAR