BEGIN:VCALENDAR
VERSION:2.0
PRODID:-//hacksw/handcal//NONSGML v1.0//EN
BEGIN:VEVENT
DTSTART:20260317T190000
DTEND:20260317T210000
LOCATION:Salon Caroline AIgle, Maison des X  \n12, Rue de Poitiers \n75007 PARIS
ORGANIZER;CN=Laurent Dalimier - X-Solidarités:MAILTO:laurent.dalimier@gmail.com
SUMMARY:Le dividende sociétal
DESCRIPTION:... avec Nathalie CHARLES et Eric DELANNOY\nProblème : Comment mobiliser rapidement des milliards pour financer des actions essentielles en faveur du climat et de la solidarité, sans augmenter les...
URL:https://ax.polytechnique.org/en/group/x-solidarites/28/calendar/le-dividende-societal/2026/03/17/2884
BEGIN:VALARM
TRIGGER:-P0DT1H0M0S
ACTION:DISPLAY
END:VALARM
END:VEVENT
END:VCALENDAR