BEGIN:VCALENDAR
VERSION:2.0
PRODID:-//hacksw/handcal//NONSGML v1.0//EN
BEGIN:VEVENT
DTSTART:20260428T190000
DTEND:20260428T210000
LOCATION:Maison des X \n12, Rue de Poitiers \n75007 PARIS
ORGANIZER;CN=Jeanne Lantz - Polytechnique au féminin:MAILTO:jeanne.lantz.2009@polytechnique.org
SUMMARY:Le plan Deeptech de Bpifrance : Favoriser l’émergence de starts-ups deeptech en France par Pascale Ribon (X87)
DESCRIPTION:Pascale Ribon, X-Ponts 87, dirige la stratégie Deeptech de Bpifrance depuis le lancement du plan en 2019. Forte d’un parcours hybride, elle a évolué entre le monde académique (direction de l’ESTACA et...
URL:https://ax.polytechnique.org/en/group/polytechnique-au-feminin/83/calendar/le-plan-deeptech-de-bpifrance-favoriser-l-emergence-de-starts-ups-deeptech-en-france-par-pascale-ribon-x87/2026/04/28/2993
BEGIN:VALARM
TRIGGER:-P0DT1H0M0S
ACTION:DISPLAY
END:VALARM
END:VEVENT
END:VCALENDAR