BEGIN:VCALENDAR
VERSION:2.0
PRODID:-//hacksw/handcal//NONSGML v1.0//EN
BEGIN:VEVENT
DTSTART:20260423T183000
DTEND:20260423T213000
LOCATION:Salon Aigle Maison des X \n12, Rue de Poitiers \n75007 PARIS
ORGANIZER;CN=Dominique de Robillard - X-Mer:MAILTO:dominique.de-robillard@polytechnique.org
SUMMARY:Ormuz: crise locale, crise globale ?
DESCRIPTION:INVITATION A UNE PROCHAINE Soirée X Mer consacrée au Qatar, à la crise et aux marchés du gaz autour de:Antoine Delafargue X00 Président de Total Energie E&P Qatar et Président Payset Didier Holleaux...
URL:https://ax.polytechnique.org/en/group/x-mer/90/calendar/ormuz-crise-locale-crise-globale/2026/04/23/2996
BEGIN:VALARM
TRIGGER:-P0DT1H0M0S
ACTION:DISPLAY
END:VALARM
END:VEVENT
END:VCALENDAR