BEGIN:VCALENDAR
VERSION:2.0
PRODID:-//hacksw/handcal//NONSGML v1.0//EN
BEGIN:VEVENT
DTSTART:20260504T184500
DTEND:20260504T220000
LOCATION:Maison des Polytechniciens \n12, Rue de Poitiers \n75007 PARIS
ORGANIZER;CN=Philippe AUROY - X-Recherche:MAILTO:philippe.auroy@polytechnique.org
SUMMARY:Les écosystèmes cybercriminels
DESCRIPTION:Conférence-débat le 4 mai 2026 avec Eric FREYSSINET (X92)\nGénéral de Brigade,Conseiller Sénior Cybercriminalité & Cybersécurité auprès du chef du commandement du ministère de l'intérieur dans le...
URL:https://ax.polytechnique.org/en/group/x-recherche/31/calendar/les-ecosystemes-cybercriminels/2026/05/04/3003
BEGIN:VALARM
TRIGGER:-P0DT1H0M0S
ACTION:DISPLAY
END:VALARM
END:VEVENT
END:VCALENDAR