BEGIN:VCALENDAR
VERSION:2.0
PRODID:-//hacksw/handcal//NONSGML v1.0//EN
BEGIN:VEVENT
DTSTART:20260621T100000
DTEND:20260621T110000
LOCATION:parking du cimetière d’Haux \nRoute de la Palanque \n33550 HAUX
ORGANIZER;CN=Franck Cohet - X-Bordelais:MAILTO:franck.cohet.1980@polytechnique.org
SUMMARY:X-Bordelais :  Histoire naturelle et humaine d'Haux
DESCRIPTION:Nous t’invitons, à l’occasion d’une balade-conférence, à découvrir les richesses du patrimoine bâti et naturel d’Haux.\nJean-François Larché (*), ethno-botaniste, chercheur et expert des liens entre...
URL:https://ax.polytechnique.org/en/group/x-bordelais/54/calendar/x-bordelais-histoire-naturelle-et-humaine-d-haux/2026/06/21/3006
BEGIN:VALARM
TRIGGER:-P0DT1H0M0S
ACTION:DISPLAY
END:VALARM
END:VEVENT
END:VCALENDAR