BEGIN:VCALENDAR
VERSION:2.0
PRODID:-//hacksw/handcal//NONSGML v1.0//EN
BEGIN:VEVENT
DTSTART:20190520T193000
DTEND:20190520T193500
LOCATION:Maison des X \n12, Rue de Poitiers \n75007 PARIS
ORGANIZER;CN=Fabien Derreal - X-Gaziers:MAILTO:fabien.derreal.1997@polytechnique.org
SUMMARY:Dîner annuel des X-Gaziers avec Jean-Pierre Clamadieu, président d'ENGIE, le 20 mai
DESCRIPTION:Le prochain dîner-conférence annuel des X-Gaziers aura lieu le lundi 20 mai 2019, à 19h30, à la Maison des X (75007).\nNotre invité est Jean-Pierre CLAMADIEU, Président du Conseil d'Administration...
URL:https://ax.polytechnique.org/en/group/x-gaziers/110/calendar/diner-annuel-des-x-gaziers-avec-jean-pierre-clamadieu-president-d-engie-le-20-mai/2019/05/20/502
BEGIN:VALARM
TRIGGER:-P0DT1H0M0S
ACTION:DISPLAY
END:VALARM
END:VEVENT
END:VCALENDAR