BEGIN:VCALENDAR
VERSION:2.0
PRODID:-//hacksw/handcal//NONSGML v1.0//EN
BEGIN:VEVENT
DTSTART:20190716T070000
DTEND:20190716T100500
LOCATION:Paris
ORGANIZER;CN=Aurélie Lafaurie:MAILTO:aurelie.lafaurie@ax.polytechnique.org
SUMMARY:Test
DESCRIPTION:L'École polytechnique, couramment appelée Polytechniqueet surnommée en Francel'« X », est l'une des 205 écoles d'ingénieursfrançaises accréditées au 1erseptembre 2018à délivrer un diplôme...
URL:https://ax.polytechnique.org/en/event/test/2019/07/16/567
BEGIN:VALARM
TRIGGER:-P0DT1H0M0S
ACTION:DISPLAY
END:VALARM
END:VEVENT
END:VCALENDAR