BEGIN:VCALENDAR
VERSION:2.0
PRODID:-//hacksw/handcal//NONSGML v1.0//EN
BEGIN:VEVENT
DTSTART:20191130T133000
DTEND:20191130T190000
LOCATION:Ecole Polytechnique, Palaiseau \nRoute de Saclay \n91128 Palaiseau
ORGANIZER;CN=Tru Do-Khac - X-Diversité:MAILTO:tru.do-khac.1979@polytechnique.org
SUMMARY:Les Entretiens de l'Excellence / Saclay - 4e édition, 30 nov. 2019
DESCRIPTION:Organisé de concert par l'association Les Entretiens de l'Excellence et l'X avec la participation du collectif X-Diversité, l'événement "Les Entretiens de l'Excellence sur le campus de l'Ecole...
URL:https://ax.polytechnique.org/en/group/x-diversite/216/calendar/les-entretiens-de-l-excellence-saclay-4e-edition-30-nov-2019/2019/11/30/670
BEGIN:VALARM
TRIGGER:-P0DT1H0M0S
ACTION:DISPLAY
END:VALARM
END:VEVENT
END:VCALENDAR