BEGIN:VCALENDAR
VERSION:2.0
PRODID:-//hacksw/handcal//NONSGML v1.0//EN
BEGIN:VEVENT
DTSTART:20200710T101500
DTEND:20200710T160000
LOCATION:CLUSES (74) \n50, Avenue du Nouveau Monde \n74300 CLUSES
ORGANIZER;CN=Benoît Benoît EYMARD - X Léman:MAILTO:benoit.eymard.1973@polytechnique.org
SUMMARY:Visite SOMFY     ANNULATION ET REPORT
DESCRIPTION:La visite que nous avons envisagé le 10 juillet prochain est reportée à l'automne.La visite consiste à découvrir l’entreprise SOMFY, leader mondial de la motorisation des ouvertures et fermetures de...
URL:https://ax.polytechnique.org/en/group/x-leman/204/calendar/visite-somfy-annulation-et-report/2020/07/10/746
BEGIN:VALARM
TRIGGER:-P0DT1H0M0S
ACTION:DISPLAY
END:VALARM
END:VEVENT
END:VCALENDAR