BEGIN:VCALENDAR
VERSION:2.0
PRODID:-//hacksw/handcal//NONSGML v1.0//EN
BEGIN:VEVENT
DTSTART:20200312T210000
DTEND:20200312T223000
LOCATION:Eglise Saint-Etienne du Mont \nPlace du Panthéon \n75005 PARIS
ORGANIZER;CN=Aurélie Dexmier:MAILTO:aurelie.dexmier@ax.polytechnique.org
SUMMARY:Concert de l'ensemble vocal de l'Ecole polytechnique en l'église Saint-Etienne du Mont
DESCRIPTION:Concert de l'ensemble vocal de l’École polytechniquesous la direction de Maitre Patrice Holiner\nLe Stabat Mater, pièce maîtresse de Dvořák, sera chanté à l’Église Saint-Étienne-du-Mont par l’Ensemble...
URL:https://ax.polytechnique.org/en/event/concert-de-l-ensemble-vocal-de-l-ecole-polytechnique-en-l-eglise-saint-etienne-du-mont/2020/03/12/753
BEGIN:VALARM
TRIGGER:-P0DT1H0M0S
ACTION:DISPLAY
END:VALARM
END:VEVENT
END:VCALENDAR