BEGIN:VCALENDAR
VERSION:2.0
PRODID:-//hacksw/handcal//NONSGML v1.0//EN
BEGIN:VEVENT
DTSTART:20200415T000000
DTEND:20200417T190000
LOCATION:Podcast
ORGANIZER;CN=Anne Maginot:MAILTO:anne.maginot.ax@gmail.com
SUMMARY:Groupe X-Sursaut : le Podcast N°1 avec Philippe Herzog  (59) est en ligne
DESCRIPTION:Podcast N°1 \nPhilippe Herzog (59) répond au questions du Groupe X-Sursaut.\n1. L'analyse de la crise et les perspectives économiques2. L'action de l'Union Européenne3. Les perspectives globales de...
URL:https://ax.polytechnique.org/en/event/groupe-x-sursaut-le-podcast-n-1-avec-philippe-herzog-59-est-en-ligne/2020/04/15/790
BEGIN:VALARM
TRIGGER:-P0DT1H0M0S
ACTION:DISPLAY
END:VALARM
END:VEVENT
END:VCALENDAR