BEGIN:VCALENDAR
VERSION:2.0
PRODID:-//hacksw/handcal//NONSGML v1.0//EN
BEGIN:VEVENT
DTSTART:20200512T180000
DTEND:20200512T190000
LOCATION:Visioconférence \nhttps://us02web.zoom.us/j/84477727476
ORGANIZER;CN=Anne Maginot:MAILTO:anne.maginot.ax@gmail.com
SUMMARY:Webinaire X-Sursaut avec Corinne Lepage
DESCRIPTION:Corinne Lepage\nsera l'invitée du prochain webinaire X-Sursaut\n mardi 12 mai à 18h00\n Corinne Lepage est avocate, ancienne ministre de l'environnement. Elle nous présentera sa vision de cette crise ...
URL:https://ax.polytechnique.org/en/event/webinaire-x-sursaut-avec-corinne-lepage/2020/05/12/829
BEGIN:VALARM
TRIGGER:-P0DT1H0M0S
ACTION:DISPLAY
END:VALARM
END:VEVENT
END:VCALENDAR