BEGIN:VCALENDAR
VERSION:2.0
PRODID:-//hacksw/handcal//NONSGML v1.0//EN
BEGIN:VEVENT
DTSTART:20200526T110000
DTEND:20200526T120000
LOCATION:Webinaire  X-Renouvelables
ORGANIZER;CN=Anne Maginot:MAILTO:anne.maginot.ax@gmail.com
SUMMARY:Patrick Criqui : l'économie et l'énergie après le coronavirus : quatre futurs possibles ?
DESCRIPTION:Patrick Criquisera l'invité du prochain webinairedu groupe X-Renouvelablesmardi 26 mai à 11h00\nPatrick Criqui est directeur de rechercher émérite au CNRS, chercheur associé à l'IDDRI et membre du...
URL:https://ax.polytechnique.org/en/event/patrick-criqui-l-economie-et-l-energie-apres-le-coronavirus-quatre-futurs-possibles/2020/05/26/844
BEGIN:VALARM
TRIGGER:-P0DT1H0M0S
ACTION:DISPLAY
END:VALARM
END:VEVENT
END:VCALENDAR