BEGIN:VCALENDAR
VERSION:2.0
PRODID:-//hacksw/handcal//NONSGML v1.0//EN
BEGIN:VEVENT
DTSTART:20180525T184500
DTEND:20180526T040000
LOCATION:Palais Garnier \n1, Place de l'Opéra \n75002 PARIS-2E-ARRONDISSEMENT
ORGANIZER;CN=Aurélie Dexmier:MAILTO:aurelie.dexmier@ax.polytechnique.org
SUMMARY:Bal de l'X 2018 - 25 mai 2018
DESCRIPTION:C'est avec un immense plaisir que nous vous avons accueillis vendredi 25 mai dernier au cœur du Palais Garnier pour la 127ème édition du Bal de l'X.\nLe reportage photos est enfin en ligne.Pour le...
URL:https://ax.polytechnique.org/en/event/bal-de-l-x-2018-25-mai-2018/2018/05/25/9
BEGIN:VALARM
TRIGGER:-P0DT1H0M0S
ACTION:DISPLAY
END:VALARM
END:VEVENT
END:VCALENDAR