BEGIN:VCALENDAR
VERSION:2.0
PRODID:-//hacksw/handcal//NONSGML v1.0//EN
BEGIN:VEVENT
DTSTART:20220426T180000
DTEND:20220426T210000
LOCATION:Maison des X - Salon Caroline Aigle
ORGANIZER;CN=Tru Do-Khac - X-Propriété Intellectuelle (X-PI):MAILTO:tru.do-khac.1979@polytechnique.org
SUMMARY:Afterwork X-PI :    "IP and Youth innovating for a Better Future"
DESCRIPTION:Pour cet afterwork de ce 26 avril 2022, X-Propriété-Intellectuelle (X-PI) reprend à son compte le thème de la journée mondiale de la propriété intellectuelle  organisée annuellement par le World...
URL:https://ax.polytechnique.org/fr/group/x-propriete-intellectuelle-x-pi/81/calendar/afterwork-x-pi-ip-and-youth-innovating-for-a-better-future/2022/04/26/1311
BEGIN:VALARM
TRIGGER:-P0DT1H0M0S
ACTION:DISPLAY
END:VALARM
END:VEVENT
END:VCALENDAR