BEGIN:VCALENDAR
VERSION:2.0
PRODID:-//hacksw/handcal//NONSGML v1.0//EN
BEGIN:VEVENT
DTSTART:20230420T183000
DTEND:20230420T193000
LOCATION:Hotel de Poulpry, Maison des X, salon Aigle \n12, Rue de Poitiers \n75007 PARIS
ORGANIZER;CN=Michel Paillet - X-Sciences de l'Homme et de la Société (X-SHS):MAILTO:michel.paillet.1992@polytechnique.org
SUMMARY:Marie-André Guillemin - 20/04 - Rhétorique et éloquence : vecteurs de pouvoir ? Pour une éthique de la délibération
DESCRIPTION:\nVenez découvrir comment approcher et apprivoiser la dynamique de la parole, conçue comme un processus au sein duquel s’expriment des tendances contradictoires.\nRésumé \nMarie-André Guillemin,...
URL:https://ax.polytechnique.org/fr/group/x-sciences-de-l-homme-et-de-la-societe-x-shs/51/calendar/marie-andre-guillemin-20-04-rhetorique-et-eloquence-vecteurs-de-pouvoir-pour-une-ethique-de-la-deliberation/2023/04/20/1650
BEGIN:VALARM
TRIGGER:-P0DT1H0M0S
ACTION:DISPLAY
END:VALARM
END:VEVENT
END:VCALENDAR