BEGIN:VCALENDAR
VERSION:2.0
PRODID:-//hacksw/handcal//NONSGML v1.0//EN
BEGIN:VEVENT
DTSTART:20241002T183000
DTEND:20241002T200000
LOCATION:https://us02web.zoom.us/j/82891663886?pwd=xrLQBBpWmY5EKtP1gXil2hlcwlnqiV.1
ORGANIZER;CN=Anne Maginot:MAILTO:anne.maginot.ax@gmail.com
SUMMARY:MathématiX : webinaire de présentation
DESCRIPTION:Tu veux accompagner des jeunes motivés, capables, boursiers, et qui  méritent d’être soutenus en mathématiques ? Si tu peux mobiliser une heure par semaine, 20 semaines par an, depuis chez toi, à une ...
URL:https://ax.polytechnique.org/fr/event/mathematix-webinaire-de-presentation/2024/10/02/2218
BEGIN:VALARM
TRIGGER:-P0DT1H0M0S
ACTION:DISPLAY
END:VALARM
END:VEVENT
END:VCALENDAR