BEGIN:VCALENDAR
VERSION:2.0
PRODID:-//hacksw/handcal//NONSGML v1.0//EN
BEGIN:VEVENT
DTSTART:20251115T133000
DTEND:20251115T173000
LOCATION:Mairie du 6ème Arrondissement de Paris  \nPlace Saint-Sulpice \n75006 PARIS
ORGANIZER;CN=Marie-Louise Casademont - SABIX:MAILTO:marie-louise.tronc.1974@polytechnique.org
SUMMARY:II ème salon du livre polytechnicien, le 15 novembre 2025
DESCRIPTION:Réservez la date du 15 novembre 2025 dans votre agenda ! Vous pourrez  visiter le II ème salon du livre polytechnicien, qui se déroulera dans les salons de la Mairie du VI ème arrondissement de...
URL:https://ax.polytechnique.org/fr/group/sabix/106/calendar/ii-eme-salon-du-livre-polytechnicien-le-15-novembre-2025/2025/11/15/2305
BEGIN:VALARM
TRIGGER:-P0DT1H0M0S
ACTION:DISPLAY
END:VALARM
END:VEVENT
END:VCALENDAR