BEGIN:VCALENDAR
VERSION:2.0
PRODID:-//hacksw/handcal//NONSGML v1.0//EN
BEGIN:VEVENT
DTSTART:20250121T200000
DTEND:20250121T220000
LOCATION:https://teams.microsoft.com/l/
ORGANIZER;CN=Benoît Eymard - X Léman:MAILTO:benoit.eymard.1973@polytechnique.org
SUMMARY:AG du groupe X-Léman
DESCRIPTION:Code d'accès du webinar 362067216290 ; Sb9Ys9Xb...
URL:https://ax.polytechnique.org/fr/group/x-leman/204/calendar/ag-du-groupe-x-leman/2025/01/21/2367
BEGIN:VALARM
TRIGGER:-P0DT1H0M0S
ACTION:DISPLAY
END:VALARM
END:VEVENT
END:VCALENDAR