BEGIN:VCALENDAR
VERSION:2.0
PRODID:-//hacksw/handcal//NONSGML v1.0//EN
BEGIN:VEVENT
DTSTART:20250522T163000
DTEND:20250522T170000
LOCATION:Campus de la Transition, Forges (Seine-et-Marne) \n2, Rue de Salins \n77130 FORGES
ORGANIZER;CN=Vincent Rabaron - X Urgence Écologique:MAILTO:vincent.rabaron.2002@polytechnique.org
SUMMARY:Rencontres X-UE du 22 au 25 Mai 2025 au Campus de la Transition (Forges, 77)
DESCRIPTION:Nous avons le plaisir de vous annoncer que les quatrièmes rencontres de printemps d’X-Urgence Ecologique auront à nouveau lieu au superbe campus de la transition.Tous les détails sont accessibles sur ...
URL:https://ax.polytechnique.org/fr/group/x-urgence-ecologique/287/calendar/rencontres-x-ue-du-22-au-25-mai-2025-au-campus-de-la-transition-forges-77/2025/05/22/2399
BEGIN:VALARM
TRIGGER:-P0DT1H0M0S
ACTION:DISPLAY
END:VALARM
END:VEVENT
END:VCALENDAR