BEGIN:VCALENDAR
VERSION:2.0
PRODID:-//hacksw/handcal//NONSGML v1.0//EN
BEGIN:VEVENT
DTSTART:20250320T183000
DTEND:20250320T203000
LOCATION:Maison des X, Hôtel de Poulpry \n12, Rue de Poitiers \n75007 PARIS
ORGANIZER;CN=Michel Paillet - X-Sciences de l'Homme et de la Société (X-SHS):MAILTO:michel.paillet.1992@polytechnique.org
SUMMARY:Ioan Roxin - 13/03 - IA et cognition humaine : entre progrès technologique et atrophie cognitive
DESCRIPTION:IA et cognition humaine : entre progrès technologique et atrophie cognitive\nDepuis plus de 50 ans, l’évolution des technologies de l’information a constamment redéfini notre rapport au savoir et à la...
URL:https://ax.polytechnique.org/fr/group/x-sciences-de-l-homme-et-de-la-societe-x-shs/51/calendar/ioan-roxin-13-03-ia-et-cognition-humaine-entre-progres-technologique-et-atrophie-cognitive/2025/03/20/2447
BEGIN:VALARM
TRIGGER:-P0DT1H0M0S
ACTION:DISPLAY
END:VALARM
END:VEVENT
END:VCALENDAR